BEGIN:VCALENDAR
VERSION:2.0
PRODID:-//Examínate  - ECPv6.15.20//NONSGML v1.0//EN
CALSCALE:GREGORIAN
METHOD:PUBLISH
X-WR-CALNAME:Examínate 
X-ORIGINAL-URL:https://examinate.net
X-WR-CALDESC:Eventos para Examínate 
REFRESH-INTERVAL;VALUE=DURATION:PT1H
X-Robots-Tag:noindex
X-PUBLISHED-TTL:PT1H
BEGIN:VTIMEZONE
TZID:Europe/Madrid
BEGIN:DAYLIGHT
TZOFFSETFROM:+0100
TZOFFSETTO:+0200
TZNAME:CEST
DTSTART:20250330T010000
END:DAYLIGHT
BEGIN:STANDARD
TZOFFSETFROM:+0200
TZOFFSETTO:+0100
TZNAME:CET
DTSTART:20251026T010000
END:STANDARD
BEGIN:DAYLIGHT
TZOFFSETFROM:+0100
TZOFFSETTO:+0200
TZNAME:CEST
DTSTART:20260329T010000
END:DAYLIGHT
BEGIN:STANDARD
TZOFFSETFROM:+0200
TZOFFSETTO:+0100
TZNAME:CET
DTSTART:20261025T010000
END:STANDARD
BEGIN:DAYLIGHT
TZOFFSETFROM:+0100
TZOFFSETTO:+0200
TZNAME:CEST
DTSTART:20270328T010000
END:DAYLIGHT
BEGIN:STANDARD
TZOFFSETFROM:+0200
TZOFFSETTO:+0100
TZNAME:CET
DTSTART:20271031T010000
END:STANDARD
END:VTIMEZONE
BEGIN:VEVENT
DTSTART;TZID=Europe/Madrid:20260429T090000
DTEND;TZID=Europe/Madrid:20260429T150000
DTSTAMP:20260421T103203
CREATED:20260217T093824Z
LAST-MODIFIED:20260217T101351Z
UID:4027-1777453200-1777474800@examinate.net
SUMMARY:LanguageCert ESOL
DESCRIPTION:Sesión Exámenes LanguageCert ESOL. Niveles A2 – B1 – B2 – C1 – C2
URL:https://examinate.net/event/languagecert-esol-2/
LOCATION:EXAMINATE CEM\, C/ BENIZALON\, 4\, ALMERÍA\, ALMERÍA\, 04007\, España
CATEGORIES:Exámenes
ATTACH;FMTTYPE=image/jpeg:https://examinate.net/wp-content/uploads/2023/11/LC-LOGO-e1703187277592.jpg
ORGANIZER;CN="EXAMINATE CEM%2C S.L.":MAILTO:info@examinate.net
END:VEVENT
END:VCALENDAR